BEGIN:VCALENDAR
VERSION:2.0
PRODID:-//Poland Spring Resort - ECPv6.15.20//NONSGML v1.0//EN
CALSCALE:GREGORIAN
METHOD:PUBLISH
X-WR-CALNAME:Poland Spring Resort
X-ORIGINAL-URL:https://polandspringresort.com
X-WR-CALDESC:Events for Poland Spring Resort
REFRESH-INTERVAL;VALUE=DURATION:PT1H
X-Robots-Tag:noindex
X-PUBLISHED-TTL:PT1H
BEGIN:VTIMEZONE
TZID:America/New_York
BEGIN:DAYLIGHT
TZOFFSETFROM:-0500
TZOFFSETTO:-0400
TZNAME:EDT
DTSTART:20240310T070000
END:DAYLIGHT
BEGIN:STANDARD
TZOFFSETFROM:-0400
TZOFFSETTO:-0500
TZNAME:EST
DTSTART:20241103T060000
END:STANDARD
BEGIN:DAYLIGHT
TZOFFSETFROM:-0500
TZOFFSETTO:-0400
TZNAME:EDT
DTSTART:20250309T070000
END:DAYLIGHT
BEGIN:STANDARD
TZOFFSETFROM:-0400
TZOFFSETTO:-0500
TZNAME:EST
DTSTART:20251102T060000
END:STANDARD
BEGIN:DAYLIGHT
TZOFFSETFROM:-0500
TZOFFSETTO:-0400
TZNAME:EDT
DTSTART:20260308T070000
END:DAYLIGHT
BEGIN:STANDARD
TZOFFSETFROM:-0400
TZOFFSETTO:-0500
TZNAME:EST
DTSTART:20261101T060000
END:STANDARD
END:VTIMEZONE
BEGIN:VEVENT
DTSTART;TZID=America/New_York:20251012T080000
DTEND;TZID=America/New_York:20251012T100000
DTSTAMP:20260421T143843
CREATED:20241206T182445Z
LAST-MODIFIED:20250318T164150Z
UID:11621-1760256000-1760263200@polandspringresort.com
SUMMARY:Employee Appreciation Golf Tournament
DESCRIPTION:
URL:https://polandspringresort.com/event/employee-appreciation-golf-tournament/
CATEGORIES:Golf
ATTACH;FMTTYPE=image/jpeg:https://polandspringresort.com/wp-content/uploads/2024/12/1896-Logo.jpg
END:VEVENT
END:VCALENDAR