BEGIN:VCALENDAR
VERSION:2.0
PRODID:-//Poland Spring Resort - ECPv6.15.20//NONSGML v1.0//EN
CALSCALE:GREGORIAN
METHOD:PUBLISH
X-ORIGINAL-URL:https://polandspringresort.com
X-WR-CALDESC:Events for Poland Spring Resort
REFRESH-INTERVAL;VALUE=DURATION:PT1H
X-Robots-Tag:noindex
X-PUBLISHED-TTL:PT1H
BEGIN:VTIMEZONE
TZID:America/New_York
BEGIN:DAYLIGHT
TZOFFSETFROM:-0500
TZOFFSETTO:-0400
TZNAME:EDT
DTSTART:20240310T070000
END:DAYLIGHT
BEGIN:STANDARD
TZOFFSETFROM:-0400
TZOFFSETTO:-0500
TZNAME:EST
DTSTART:20241103T060000
END:STANDARD
BEGIN:DAYLIGHT
TZOFFSETFROM:-0500
TZOFFSETTO:-0400
TZNAME:EDT
DTSTART:20250309T070000
END:DAYLIGHT
BEGIN:STANDARD
TZOFFSETFROM:-0400
TZOFFSETTO:-0500
TZNAME:EST
DTSTART:20251102T060000
END:STANDARD
BEGIN:DAYLIGHT
TZOFFSETFROM:-0500
TZOFFSETTO:-0400
TZNAME:EDT
DTSTART:20260308T070000
END:DAYLIGHT
BEGIN:STANDARD
TZOFFSETFROM:-0400
TZOFFSETTO:-0500
TZNAME:EST
DTSTART:20261101T060000
END:STANDARD
END:VTIMEZONE
BEGIN:VEVENT
DTSTART;TZID=America/New_York:20251007T080000
DTEND;TZID=America/New_York:20251007T170000
DTSTAMP:20260421T144651
CREATED:20241206T181938Z
LAST-MODIFIED:20250318T163346Z
UID:11619-1759824000-1759856400@polandspringresort.com
SUMMARY:Back Side Greens Aerification
DESCRIPTION:Attention golfers\, Poland Spring will be conducting a Back Side greens aerification process on October 7. All play will start on hole #1.  Players starting play in the morning may have to play the front side twice in order to get 18 holes in.  During this time\, putting surfaces may be slightly disrupted due to aeration holes. We anticipate a full recovery within 7-10 days. Contact the pro shop at (207)998-6002 for the latest updates on green conditions and for any adjustments to playing fees during this period.
URL:https://polandspringresort.com/event/back-side-greens-aerification/
CATEGORIES:Golf
END:VEVENT
END:VCALENDAR