BEGIN:VCALENDAR
VERSION:2.0
PRODID:-//Poland Spring Resort - ECPv6.15.20//NONSGML v1.0//EN
CALSCALE:GREGORIAN
METHOD:PUBLISH
X-WR-CALNAME:Poland Spring Resort
X-ORIGINAL-URL:https://polandspringresort.com
X-WR-CALDESC:Events for Poland Spring Resort
REFRESH-INTERVAL;VALUE=DURATION:PT1H
X-Robots-Tag:noindex
X-PUBLISHED-TTL:PT1H
BEGIN:VTIMEZONE
TZID:America/Toronto
BEGIN:DAYLIGHT
TZOFFSETFROM:-0500
TZOFFSETTO:-0400
TZNAME:EDT
DTSTART:20240310T070000
END:DAYLIGHT
BEGIN:STANDARD
TZOFFSETFROM:-0400
TZOFFSETTO:-0500
TZNAME:EST
DTSTART:20241103T060000
END:STANDARD
BEGIN:DAYLIGHT
TZOFFSETFROM:-0500
TZOFFSETTO:-0400
TZNAME:EDT
DTSTART:20250309T070000
END:DAYLIGHT
BEGIN:STANDARD
TZOFFSETFROM:-0400
TZOFFSETTO:-0500
TZNAME:EST
DTSTART:20251102T060000
END:STANDARD
BEGIN:DAYLIGHT
TZOFFSETFROM:-0500
TZOFFSETTO:-0400
TZNAME:EDT
DTSTART:20260308T070000
END:DAYLIGHT
BEGIN:STANDARD
TZOFFSETFROM:-0400
TZOFFSETTO:-0500
TZNAME:EST
DTSTART:20261101T060000
END:STANDARD
END:VTIMEZONE
BEGIN:VEVENT
DTSTART;TZID=America/Toronto:20250918T083000
DTEND;TZID=America/Toronto:20250918T140000
DTSTAMP:20260421T162006
CREATED:20241206T180113Z
LAST-MODIFIED:20250917T183921Z
UID:11611-1758184200-1758204000@polandspringresort.com
SUMMARY:Suzanne Golf for Food
DESCRIPTION:Mission: All proceeds (EVERY DOLLAR) will go to our local food banks. \nWe are working directly with the Oxford Helping Hands Food Pantry and the Poland Food Bank to feed our neighbors. \nPurchase Tournament Fees \nSponsorship and registration \nOur new Chairman of the tournament is Mike Ward\, friend to most of us! He will bring a great day of golf and fun for all! \nSuzanne Grover\, 73\, of Norway\, passed away on Jan. 10\, 2018. A graduate of Gould Academy\, she and her husband\, Rupert were a founders of Grover Gundrilling\, Inc.\, Suzanne’s generosity toward the needy was astounding. Almost every day you would find her picking up food in her big black SUV at Wal-mart to personally distribute the donated food to the food pantries. \nPoland Spring will donate the course\, carts and food to get us our way to raising lots of money for the two food banks! \nBring food (not water) and every pound of food you give you’ll get a raffle ticket for some great prizes! \n 
URL:https://polandspringresort.com/event/suzanne-golf-for-food/
LOCATION:Golf Course\, 37 Robbins Way\, Poland\, ME\, 04274\, United States
CATEGORIES:Golf
ATTACH;FMTTYPE=image/jpeg:https://polandspringresort.com/wp-content/uploads/2024/03/2015-golf-for-food-081-scaled-e1729297865313.jpg
END:VEVENT
END:VCALENDAR