BEGIN:VCALENDAR
VERSION:2.0
PRODID:-//Poland Spring Resort - ECPv6.15.20//NONSGML v1.0//EN
CALSCALE:GREGORIAN
METHOD:PUBLISH
X-WR-CALNAME:Poland Spring Resort
X-ORIGINAL-URL:https://polandspringresort.com
X-WR-CALDESC:Events for Poland Spring Resort
REFRESH-INTERVAL;VALUE=DURATION:PT1H
X-Robots-Tag:noindex
X-PUBLISHED-TTL:PT1H
BEGIN:VTIMEZONE
TZID:America/Toronto
BEGIN:DAYLIGHT
TZOFFSETFROM:-0500
TZOFFSETTO:-0400
TZNAME:EDT
DTSTART:20240310T070000
END:DAYLIGHT
BEGIN:STANDARD
TZOFFSETFROM:-0400
TZOFFSETTO:-0500
TZNAME:EST
DTSTART:20241103T060000
END:STANDARD
BEGIN:DAYLIGHT
TZOFFSETFROM:-0500
TZOFFSETTO:-0400
TZNAME:EDT
DTSTART:20250309T070000
END:DAYLIGHT
BEGIN:STANDARD
TZOFFSETFROM:-0400
TZOFFSETTO:-0500
TZNAME:EST
DTSTART:20251102T060000
END:STANDARD
BEGIN:DAYLIGHT
TZOFFSETFROM:-0500
TZOFFSETTO:-0400
TZNAME:EDT
DTSTART:20260308T070000
END:DAYLIGHT
BEGIN:STANDARD
TZOFFSETFROM:-0400
TZOFFSETTO:-0500
TZNAME:EST
DTSTART:20261101T060000
END:STANDARD
END:VTIMEZONE
BEGIN:VEVENT
DTSTART;TZID=America/Toronto:20250909T073000
DTEND;TZID=America/Toronto:20250909T133000
DTSTAMP:20260421T162003
CREATED:20240207T172725Z
LAST-MODIFIED:20250622T164152Z
UID:7388-1757403000-1757424600@polandspringresort.com
SUMMARY:Southern Maine Seniors
DESCRIPTION:Vision and legacy of the Gerber’s\n\n“In 1977\, brothers Saul and Phil Gerber were both members of the Maine Seniors. The Maine Seniors was the only senior golf association in the state and membership was limited to their member courses of Portland\, Augusta\, York and Martindale.  The outside waiting list was ten years.  They decided to do something about it so that their seniors friends from Riverside\, Purpoodock and other courses in southern Maine would be able to play senior tournaments.  They enlisted the help of Purpoodock members Joe Alberti and Buzzer Feeney and starter to sign up seniors from surrounding courses. \nThe first year courses were Riverside\, Purpoodock\, Willowdale\, Biddeford-Saco\, Cape Arundel\, Webhannet\, Gorham and York.  The golf courses were almost empty on Tuesday’s and they welcomed the additional play.  A light lunch was included with golf and forty-five years later the association and good times on the links still exist. \nSaul passed away in 1993 and his son John assisted his uncle Phil in continuing to organize the tournaments.  With the passing of Phil in 1996\, John expanded the membership and added other golf courses in southern Maine and has run the tournaments for the past twenty-eight years. \nI think\, with my father’s vision\, thousands of golfers\, both amateur and professional\, have enjoyed senior golf through the years.” \nJohn Gerber\, 2021
URL:https://polandspringresort.com/event/southern-maine-women/
LOCATION:Golf Course\, 37 Robbins Way\, Poland\, ME\, 04274\, United States
CATEGORIES:Golf
END:VEVENT
END:VCALENDAR