BEGIN:VCALENDAR
VERSION:2.0
PRODID:-//Poland Spring Resort - ECPv6.15.20//NONSGML v1.0//EN
CALSCALE:GREGORIAN
METHOD:PUBLISH
X-WR-CALNAME:Poland Spring Resort
X-ORIGINAL-URL:https://polandspringresort.com
X-WR-CALDESC:Events for Poland Spring Resort
REFRESH-INTERVAL;VALUE=DURATION:PT1H
X-Robots-Tag:noindex
X-PUBLISHED-TTL:PT1H
BEGIN:VTIMEZONE
TZID:America/Toronto
BEGIN:DAYLIGHT
TZOFFSETFROM:-0500
TZOFFSETTO:-0400
TZNAME:EDT
DTSTART:20240310T070000
END:DAYLIGHT
BEGIN:STANDARD
TZOFFSETFROM:-0400
TZOFFSETTO:-0500
TZNAME:EST
DTSTART:20241103T060000
END:STANDARD
BEGIN:DAYLIGHT
TZOFFSETFROM:-0500
TZOFFSETTO:-0400
TZNAME:EDT
DTSTART:20250309T070000
END:DAYLIGHT
BEGIN:STANDARD
TZOFFSETFROM:-0400
TZOFFSETTO:-0500
TZNAME:EST
DTSTART:20251102T060000
END:STANDARD
BEGIN:DAYLIGHT
TZOFFSETFROM:-0500
TZOFFSETTO:-0400
TZNAME:EDT
DTSTART:20260308T070000
END:DAYLIGHT
BEGIN:STANDARD
TZOFFSETFROM:-0400
TZOFFSETTO:-0500
TZNAME:EST
DTSTART:20261101T060000
END:STANDARD
END:VTIMEZONE
BEGIN:VTIMEZONE
TZID:America/New_York
BEGIN:DAYLIGHT
TZOFFSETFROM:-0500
TZOFFSETTO:-0400
TZNAME:EDT
DTSTART:20240310T070000
END:DAYLIGHT
BEGIN:STANDARD
TZOFFSETFROM:-0400
TZOFFSETTO:-0500
TZNAME:EST
DTSTART:20241103T060000
END:STANDARD
BEGIN:DAYLIGHT
TZOFFSETFROM:-0500
TZOFFSETTO:-0400
TZNAME:EDT
DTSTART:20250309T070000
END:DAYLIGHT
BEGIN:STANDARD
TZOFFSETFROM:-0400
TZOFFSETTO:-0500
TZNAME:EST
DTSTART:20251102T060000
END:STANDARD
BEGIN:DAYLIGHT
TZOFFSETFROM:-0500
TZOFFSETTO:-0400
TZNAME:EDT
DTSTART:20260308T070000
END:DAYLIGHT
BEGIN:STANDARD
TZOFFSETFROM:-0400
TZOFFSETTO:-0500
TZNAME:EST
DTSTART:20261101T060000
END:STANDARD
END:VTIMEZONE
BEGIN:VEVENT
DTSTART;TZID=America/Toronto:20251001T090000
DTEND;TZID=America/Toronto:20251001T140000
DTSTAMP:20260421T130438
CREATED:20241206T181253Z
LAST-MODIFIED:20250910T134729Z
UID:11614-1759309200-1759327200@polandspringresort.com
SUMMARY:5th Annual Richardson Family Veterans’ Support Golf Tournament
DESCRIPTION:  \nPoland Spring Resort is proud to host the 5th Annual Richardson Family Veterans’ Support Golf Tournament on Wednesday\, October 1\, 2025\, at the historic Poland Spring Golf Course in Poland\, Maine. All proceeds benefit the Travis Mills Foundation\, supporting recalibrated veterans and their families. Learn more about the Foundation HERE\nThis event is rain or shine.\nTournament Details\n\nFormat: Four-player scramble\nStart: Shotgun at 9:00 AM ET (check-in opens 8:00 AM; please arrive by 8:00 AM)\nWhere: Poland Spring Golf Course\, Poland\, Maine\n\nEntry & Inclusions\n\n$500 per team ($125 per player)\nIncludes green fee\, cart\, and post-tournament meal\nSingles welcome—we’ll pair you up on tournament day\n\nHow to Register\n\nEmail handicaps for your team to Ray Richardson at ray@wlobradio.com.\nPay your team fee ONLINE HERE\n\nSponsorship Opportunity\n\nWe’re seeking hole sponsors at $250 each.\nIncludes a sign with your company name and logo.\nTo sponsor\, please call Ray Richardson at 207-409-6172.\n\nFor questions or to confirm your spot\, please email Ray (ray@wlobradio.com) to register your team’s handicaps.\nThank you for supporting our veterans. We can’t wait to see you on the course!
URL:https://polandspringresort.com/event/veteran-support-golf-tournament/
CATEGORIES:Golf
END:VEVENT
BEGIN:VEVENT
DTSTART;TZID=America/New_York:20251006T080000
DTEND;TZID=America/New_York:20251006T170000
DTSTAMP:20260421T130438
CREATED:20241206T181814Z
LAST-MODIFIED:20250318T164237Z
UID:11617-1759737600-1759770000@polandspringresort.com
SUMMARY:Front Side Greens Aerification
DESCRIPTION:Attention golfers\, Poland Spring will be conducting a Front Side greens aerification process on October 6. All play will start on hole #10.  Players starting play in the morning may have to play the back side twice in order to get 18 holes in\,  During this time\, putting surfaces may be slightly disrupted due to aeration holes. We anticipate a full recovery within 7-10 days. Contact the pro shop at (207)998-6002 for the latest updates on green conditions and for any adjustments to playing fees during this period.
URL:https://polandspringresort.com/event/front-side-greens-aerification/
CATEGORIES:Golf
END:VEVENT
BEGIN:VEVENT
DTSTART;TZID=America/New_York:20251007T080000
DTEND;TZID=America/New_York:20251007T170000
DTSTAMP:20260421T130438
CREATED:20241206T181938Z
LAST-MODIFIED:20250318T163346Z
UID:11619-1759824000-1759856400@polandspringresort.com
SUMMARY:Back Side Greens Aerification
DESCRIPTION:Attention golfers\, Poland Spring will be conducting a Back Side greens aerification process on October 7. All play will start on hole #1.  Players starting play in the morning may have to play the front side twice in order to get 18 holes in.  During this time\, putting surfaces may be slightly disrupted due to aeration holes. We anticipate a full recovery within 7-10 days. Contact the pro shop at (207)998-6002 for the latest updates on green conditions and for any adjustments to playing fees during this period.
URL:https://polandspringresort.com/event/back-side-greens-aerification/
CATEGORIES:Golf
END:VEVENT
BEGIN:VEVENT
DTSTART;TZID=America/New_York:20251012T080000
DTEND;TZID=America/New_York:20251012T100000
DTSTAMP:20260421T130438
CREATED:20241206T182445Z
LAST-MODIFIED:20250318T164150Z
UID:11621-1760256000-1760263200@polandspringresort.com
SUMMARY:Employee Appreciation Golf Tournament
DESCRIPTION:
URL:https://polandspringresort.com/event/employee-appreciation-golf-tournament/
CATEGORIES:Golf
ATTACH;FMTTYPE=image/jpeg:https://polandspringresort.com/wp-content/uploads/2024/12/1896-Logo.jpg
END:VEVENT
BEGIN:VEVENT
DTSTART;TZID=America/Toronto:20251022T090000
DTEND;TZID=America/Toronto:20251022T140000
DTSTAMP:20260421T130438
CREATED:20241206T174659Z
LAST-MODIFIED:20250618T180135Z
UID:11603-1761123600-1761141600@polandspringresort.com
SUMMARY:Enterprise / Special Olympics
DESCRIPTION:The Enterprise Open golf tournament is a yearly event that benefits Special Olympics Maine:\n\n\n\n\n\n\n\n\n\n2025 Enterprise Open\nThe 32nd annual tournament will take place on October 22\, 2025 at Poland Spring Resort and Golf Course. The event includes a scramble format\, check-in at 8 AM\, shotgun start at 9 AM\, lunch on course\, and an awards ceremony at Camp Tall Pines\, raffle\, and auction.\n\n\n\n\n\n\n\n\nSponsorship opportunities\nSponsorships include breakfast sponsor\, individual golfer\, banner sponsor\, and team Mulligan & String-It-Out package.\n\n\n\n\n\n\n\n\nPost-event\nParticipants are welcome to attend the post-event at Camp Tall Pines.
URL:https://polandspringresort.com/event/charity-enterprise-special-olympics-shot-gun-2/
LOCATION:Golf Course\, 37 Robbins Way\, Poland\, ME\, 04274\, United States
CATEGORIES:Golf
ATTACH;FMTTYPE=image/png:https://polandspringresort.com/wp-content/uploads/2024/12/16549_1623253725.png
END:VEVENT
BEGIN:VEVENT
DTSTART;TZID=America/New_York:20251026T080000
DTEND;TZID=America/New_York:20251026T170000
DTSTAMP:20260421T130438
CREATED:20241206T194520Z
LAST-MODIFIED:20250318T163644Z
UID:11642-1761465600-1761498000@polandspringresort.com
SUMMARY:Closing Day
DESCRIPTION:
URL:https://polandspringresort.com/event/closing-day/
CATEGORIES:Golf
END:VEVENT
END:VCALENDAR