BEGIN:VCALENDAR
VERSION:2.0
PRODID:-//Poland Spring Resort - ECPv6.15.20//NONSGML v1.0//EN
CALSCALE:GREGORIAN
METHOD:PUBLISH
X-ORIGINAL-URL:https://polandspringresort.com
X-WR-CALDESC:Events for Poland Spring Resort
REFRESH-INTERVAL;VALUE=DURATION:PT1H
X-Robots-Tag:noindex
X-PUBLISHED-TTL:PT1H
BEGIN:VTIMEZONE
TZID:America/Toronto
BEGIN:DAYLIGHT
TZOFFSETFROM:-0500
TZOFFSETTO:-0400
TZNAME:EDT
DTSTART:20240310T070000
END:DAYLIGHT
BEGIN:STANDARD
TZOFFSETFROM:-0400
TZOFFSETTO:-0500
TZNAME:EST
DTSTART:20241103T060000
END:STANDARD
BEGIN:DAYLIGHT
TZOFFSETFROM:-0500
TZOFFSETTO:-0400
TZNAME:EDT
DTSTART:20250309T070000
END:DAYLIGHT
BEGIN:STANDARD
TZOFFSETFROM:-0400
TZOFFSETTO:-0500
TZNAME:EST
DTSTART:20251102T060000
END:STANDARD
BEGIN:DAYLIGHT
TZOFFSETFROM:-0500
TZOFFSETTO:-0400
TZNAME:EDT
DTSTART:20260308T070000
END:DAYLIGHT
BEGIN:STANDARD
TZOFFSETFROM:-0400
TZOFFSETTO:-0500
TZNAME:EST
DTSTART:20261101T060000
END:STANDARD
END:VTIMEZONE
BEGIN:VTIMEZONE
TZID:America/New_York
BEGIN:DAYLIGHT
TZOFFSETFROM:-0500
TZOFFSETTO:-0400
TZNAME:EDT
DTSTART:20240310T070000
END:DAYLIGHT
BEGIN:STANDARD
TZOFFSETFROM:-0400
TZOFFSETTO:-0500
TZNAME:EST
DTSTART:20241103T060000
END:STANDARD
BEGIN:DAYLIGHT
TZOFFSETFROM:-0500
TZOFFSETTO:-0400
TZNAME:EDT
DTSTART:20250309T070000
END:DAYLIGHT
BEGIN:STANDARD
TZOFFSETFROM:-0400
TZOFFSETTO:-0500
TZNAME:EST
DTSTART:20251102T060000
END:STANDARD
BEGIN:DAYLIGHT
TZOFFSETFROM:-0500
TZOFFSETTO:-0400
TZNAME:EDT
DTSTART:20260308T070000
END:DAYLIGHT
BEGIN:STANDARD
TZOFFSETFROM:-0400
TZOFFSETTO:-0500
TZNAME:EST
DTSTART:20261101T060000
END:STANDARD
END:VTIMEZONE
BEGIN:VEVENT
DTSTART;TZID=America/Toronto:20250902T090000
DTEND;TZID=America/Toronto:20250902T140000
DTSTAMP:20260421T144502
CREATED:20241206T174200Z
LAST-MODIFIED:20241206T174200Z
UID:11596-1756803600-1756821600@polandspringresort.com
SUMMARY:Central Maine Seniors
DESCRIPTION:
URL:https://polandspringresort.com/event/central-maine-seniors/
LOCATION:Golf Course\, 37 Robbins Way\, Poland\, ME\, 04274\, United States
CATEGORIES:Golf
END:VEVENT
BEGIN:VEVENT
DTSTART;TZID=America/Toronto:20250903T090000
DTEND;TZID=America/Toronto:20250903T140000
DTSTAMP:20260421T144502
CREATED:20241206T174310Z
LAST-MODIFIED:20241206T174310Z
UID:11598-1756890000-1756908000@polandspringresort.com
SUMMARY:Senior Ladies Golf Club
DESCRIPTION:
URL:https://polandspringresort.com/event/senior-ladies-golf-club/
LOCATION:Golf Course\, 37 Robbins Way\, Poland\, ME\, 04274\, United States
CATEGORIES:Golf
END:VEVENT
BEGIN:VEVENT
DTSTART;TZID=America/New_York:20250904T080000
DTEND;TZID=America/New_York:20250904T170000
DTSTAMP:20260421T144502
CREATED:20240909T212122Z
LAST-MODIFIED:20250318T164536Z
UID:9281-1756972800-1757005200@polandspringresort.com
SUMMARY:Maine Auto Dealers
DESCRIPTION:
URL:https://polandspringresort.com/event/maine-auto-dealers/
LOCATION:Golf Course\, 37 Robbins Way\, Poland\, ME\, 04274\, United States
CATEGORIES:Golf
END:VEVENT
BEGIN:VEVENT
DTSTART;TZID=America/New_York:20250904T080000
DTEND;TZID=America/New_York:20250904T170000
DTSTAMP:20260421T144502
CREATED:20250318T164437Z
LAST-MODIFIED:20250318T164437Z
UID:11600-1756972800-1757005200@polandspringresort.com
SUMMARY:Maine Auto Dealers
DESCRIPTION:
URL:https://polandspringresort.com/event/maine-auto-dealers-2/
LOCATION:Golf Course\, 37 Robbins Way\, Poland\, ME\, 04274\, United States
CATEGORIES:Golf
END:VEVENT
BEGIN:VEVENT
DTSTART;TZID=America/Toronto:20250906T070000
DTEND;TZID=America/Toronto:20250907T090000
DTSTAMP:20260421T144502
CREATED:20241206T192418Z
LAST-MODIFIED:20241206T192418Z
UID:11635-1757142000-1757235600@polandspringresort.com
SUMMARY:Member Fall Classic
DESCRIPTION:
URL:https://polandspringresort.com/event/member-fall-classic/
LOCATION:Golf Course\, 37 Robbins Way\, Poland\, ME\, 04274\, United States
CATEGORIES:Golf
END:VEVENT
BEGIN:VEVENT
DTSTART;TZID=America/Toronto:20250907T070000
DTEND;TZID=America/Toronto:20250908T090000
DTSTAMP:20260421T144502
CREATED:20241206T192620Z
LAST-MODIFIED:20241206T192620Z
UID:11637-1757228400-1757322000@polandspringresort.com
SUMMARY:Member Fall Classic (Round 2)
DESCRIPTION:
URL:https://polandspringresort.com/event/member-fall-classic-round-2/
LOCATION:Golf Course\, 37 Robbins Way\, Poland\, ME\, 04274\, United States
CATEGORIES:Golf
END:VEVENT
BEGIN:VEVENT
DTSTART;TZID=America/Toronto:20250908T080000
DTEND;TZID=America/Toronto:20250908T140000
DTSTAMP:20260421T144502
CREATED:20241206T174613Z
LAST-MODIFIED:20241206T174613Z
UID:11601-1757318400-1757340000@polandspringresort.com
SUMMARY:Community Concepts Golf Tournament
DESCRIPTION:
URL:https://polandspringresort.com/event/community-concepts-golf-tournament/
CATEGORIES:Golf
END:VEVENT
BEGIN:VEVENT
DTSTART;TZID=America/Toronto:20250909T073000
DTEND;TZID=America/Toronto:20250909T133000
DTSTAMP:20260421T144502
CREATED:20240207T172725Z
LAST-MODIFIED:20250622T164152Z
UID:7388-1757403000-1757424600@polandspringresort.com
SUMMARY:Southern Maine Seniors
DESCRIPTION:Vision and legacy of the Gerber’s\n\n“In 1977\, brothers Saul and Phil Gerber were both members of the Maine Seniors. The Maine Seniors was the only senior golf association in the state and membership was limited to their member courses of Portland\, Augusta\, York and Martindale.  The outside waiting list was ten years.  They decided to do something about it so that their seniors friends from Riverside\, Purpoodock and other courses in southern Maine would be able to play senior tournaments.  They enlisted the help of Purpoodock members Joe Alberti and Buzzer Feeney and starter to sign up seniors from surrounding courses. \nThe first year courses were Riverside\, Purpoodock\, Willowdale\, Biddeford-Saco\, Cape Arundel\, Webhannet\, Gorham and York.  The golf courses were almost empty on Tuesday’s and they welcomed the additional play.  A light lunch was included with golf and forty-five years later the association and good times on the links still exist. \nSaul passed away in 1993 and his son John assisted his uncle Phil in continuing to organize the tournaments.  With the passing of Phil in 1996\, John expanded the membership and added other golf courses in southern Maine and has run the tournaments for the past twenty-eight years. \nI think\, with my father’s vision\, thousands of golfers\, both amateur and professional\, have enjoyed senior golf through the years.” \nJohn Gerber\, 2021
URL:https://polandspringresort.com/event/southern-maine-women/
LOCATION:Golf Course\, 37 Robbins Way\, Poland\, ME\, 04274\, United States
CATEGORIES:Golf
END:VEVENT
BEGIN:VEVENT
DTSTART;TZID=America/New_York:20250917T120000
DTEND;TZID=America/New_York:20250917T170000
DTSTAMP:20260421T144502
CREATED:20241206T175538Z
LAST-MODIFIED:20250318T164335Z
UID:11609-1758110400-1758128400@polandspringresort.com
SUMMARY:Maine Golf Hall of Fame Tourney
DESCRIPTION:
URL:https://polandspringresort.com/event/maine-golf-hall-of-fame-tourney-2/
LOCATION:Golf Course\, 37 Robbins Way\, Poland\, ME\, 04274\, United States
CATEGORIES:Golf
END:VEVENT
BEGIN:VEVENT
DTSTART;TZID=America/Toronto:20250918T083000
DTEND;TZID=America/Toronto:20250918T140000
DTSTAMP:20260421T144502
CREATED:20241206T180113Z
LAST-MODIFIED:20250917T183921Z
UID:11611-1758184200-1758204000@polandspringresort.com
SUMMARY:Suzanne Golf for Food
DESCRIPTION:Mission: All proceeds (EVERY DOLLAR) will go to our local food banks. \nWe are working directly with the Oxford Helping Hands Food Pantry and the Poland Food Bank to feed our neighbors. \nPurchase Tournament Fees \nSponsorship and registration \nOur new Chairman of the tournament is Mike Ward\, friend to most of us! He will bring a great day of golf and fun for all! \nSuzanne Grover\, 73\, of Norway\, passed away on Jan. 10\, 2018. A graduate of Gould Academy\, she and her husband\, Rupert were a founders of Grover Gundrilling\, Inc.\, Suzanne’s generosity toward the needy was astounding. Almost every day you would find her picking up food in her big black SUV at Wal-mart to personally distribute the donated food to the food pantries. \nPoland Spring will donate the course\, carts and food to get us our way to raising lots of money for the two food banks! \nBring food (not water) and every pound of food you give you’ll get a raffle ticket for some great prizes! \n 
URL:https://polandspringresort.com/event/suzanne-golf-for-food/
LOCATION:Golf Course\, 37 Robbins Way\, Poland\, ME\, 04274\, United States
CATEGORIES:Golf
ATTACH;FMTTYPE=image/jpeg:https://polandspringresort.com/wp-content/uploads/2024/03/2015-golf-for-food-081-scaled-e1729297865313.jpg
END:VEVENT
BEGIN:VEVENT
DTSTART;TZID=America/Toronto:20250928T080000
DTEND;TZID=America/Toronto:20250928T130000
DTSTAMP:20260421T144502
CREATED:20241206T194021Z
LAST-MODIFIED:20241206T194309Z
UID:11639-1759046400-1759064400@polandspringresort.com
SUMMARY:Men's Member Guest
DESCRIPTION:2025 Men’s Member Guest   \nSunday September 28 \nThe Men’s Member Guest will allow for 18 Hole\, Better Ball of Partners Tournament. Two partners compete together as a side\, with each player playing his or her own ball\, and a side’s score for a hole is the lower score of the two partners on that hole. Members may have 1-3 guests that will consist of 1-3 teams (Member & Guest 1\, Member & Guest 2\, Member & Guest 3)  Lunch\, cash bar and awards following play. \nMembers can register online or by contacting the Pro Shop at (207)998-6002.  Members will be responsible for guest name\, guest GHIN #\, guest home course and home course state at registration.  If guest does not carry a GHIN handicap the committee will need guest’s last five (5) scores\, course par\, course slope and course rating. \nREGISTRATION LINK: Golf Genius Member Tournament Series Portal \nREGISTRATION OPENS: – August 31 at 10:00 AM \nREGISTRATION CLOSES – September 25 at 10:00 AM \nREGISTRATION FEE – $75.00 per player \nTEE TIME – Shotgun Start 9:00 am \nTEES – White & Green \nTIES – Ties broken from most difficult to least difficult hole. \nHANDICAP – 90% \nSCORE POSTING – Scores not posted due to mulligans. \nADDITIONAL EVENT PACKAGE – $25 per player includes Mulligans\, 50 /50. Close To The Pin\, Long Drive\, Raffle \nELIGIBILTY – Men’s Member Guest is open to Poland Spring Members and guests with active GHIN handicap. If a guest does not carry a GHIN handicap the committee will need the guest’s last five (5) scores\, course name\, course par\, tees played\, course slope and course rating for the tees played. \nPURSE – Winners will be awarded prize money\, determined by finishing position\, in the form of Pro Shop Credit.  One (1) Gross Team Winner and Three (3) Net Team Winners.  All Pro Shop Credit must be used by October 15th. \nRULES OF GOLF – All play will be governed by The Rules of Golf as approved by the USGA\, except as modified by Local Rules. The Rules Committee will have the final authority on all rulings. The competition is deemed to be closed when the trophy is awarded to the champion. \nThe Tournament Committee/Rules Committee reserves the right to alter any of the conditions\, provisions\, and/or schedules herein. The decision of the Tournament Committee/Rules Committee in any matter is final. \n 
URL:https://polandspringresort.com/event/cc-members-mens-member-guest-shot-gun-2/
LOCATION:Golf Course\, 37 Robbins Way\, Poland\, ME\, 04274\, United States
CATEGORIES:Golf
ATTACH;FMTTYPE=image/jpeg:https://polandspringresort.com/wp-content/uploads/2024/12/1896-Logo.jpg
END:VEVENT
BEGIN:VEVENT
DTSTART;TZID=America/Toronto:20250930T070000
DTEND;TZID=America/Toronto:20250930T130000
DTSTAMP:20260421T144502
CREATED:20240211T212548Z
LAST-MODIFIED:20241206T180944Z
UID:7586-1759215600-1759237200@polandspringresort.com
SUMMARY:Maine Golf - Womens Play Day
DESCRIPTION:Maine Golf Play Days are fun and competitive one-day events that give members the chance to play at golf courses all around the state of Maine. From April to October\, we offer men’s and women’s one-day tournaments open to players of all abilities. All players that belong to a Maine Golf member club and have an active Handicap Index® are eligible to play in these fun events. \nWhile these tournaments are more laid back and informal than our championship events\, by no means are they without fun and competition! Play Days take place all across the state and have varied formats throughout the season to keep things interesting from spring to fall. \nhttps://www.golfgenius.com/pages/4662906
URL:https://polandspringresort.com/event/state-wmsga/
CATEGORIES:Golf
END:VEVENT
END:VCALENDAR