BEGIN:VCALENDAR
VERSION:2.0
PRODID:-//Poland Spring Resort - ECPv6.15.20//NONSGML v1.0//EN
CALSCALE:GREGORIAN
METHOD:PUBLISH
X-ORIGINAL-URL:https://polandspringresort.com
X-WR-CALDESC:Events for Poland Spring Resort
REFRESH-INTERVAL;VALUE=DURATION:PT1H
X-Robots-Tag:noindex
X-PUBLISHED-TTL:PT1H
BEGIN:VTIMEZONE
TZID:America/Toronto
BEGIN:DAYLIGHT
TZOFFSETFROM:-0500
TZOFFSETTO:-0400
TZNAME:EDT
DTSTART:20240310T070000
END:DAYLIGHT
BEGIN:STANDARD
TZOFFSETFROM:-0400
TZOFFSETTO:-0500
TZNAME:EST
DTSTART:20241103T060000
END:STANDARD
BEGIN:DAYLIGHT
TZOFFSETFROM:-0500
TZOFFSETTO:-0400
TZNAME:EDT
DTSTART:20250309T070000
END:DAYLIGHT
BEGIN:STANDARD
TZOFFSETFROM:-0400
TZOFFSETTO:-0500
TZNAME:EST
DTSTART:20251102T060000
END:STANDARD
BEGIN:DAYLIGHT
TZOFFSETFROM:-0500
TZOFFSETTO:-0400
TZNAME:EDT
DTSTART:20260308T070000
END:DAYLIGHT
BEGIN:STANDARD
TZOFFSETFROM:-0400
TZOFFSETTO:-0500
TZNAME:EST
DTSTART:20261101T060000
END:STANDARD
END:VTIMEZONE
BEGIN:VTIMEZONE
TZID:America/New_York
BEGIN:DAYLIGHT
TZOFFSETFROM:-0500
TZOFFSETTO:-0400
TZNAME:EDT
DTSTART:20240310T070000
END:DAYLIGHT
BEGIN:STANDARD
TZOFFSETFROM:-0400
TZOFFSETTO:-0500
TZNAME:EST
DTSTART:20241103T060000
END:STANDARD
BEGIN:DAYLIGHT
TZOFFSETFROM:-0500
TZOFFSETTO:-0400
TZNAME:EDT
DTSTART:20250309T070000
END:DAYLIGHT
BEGIN:STANDARD
TZOFFSETFROM:-0400
TZOFFSETTO:-0500
TZNAME:EST
DTSTART:20251102T060000
END:STANDARD
BEGIN:DAYLIGHT
TZOFFSETFROM:-0500
TZOFFSETTO:-0400
TZNAME:EDT
DTSTART:20260308T070000
END:DAYLIGHT
BEGIN:STANDARD
TZOFFSETFROM:-0400
TZOFFSETTO:-0500
TZNAME:EST
DTSTART:20261101T060000
END:STANDARD
END:VTIMEZONE
BEGIN:VEVENT
DTSTART;TZID=America/Toronto:20250803T070000
DTEND;TZID=America/Toronto:20250803T090000
DTSTAMP:20260421T161753
CREATED:20241206T155131Z
LAST-MODIFIED:20241206T155730Z
UID:11580-1754204400-1754211600@polandspringresort.com
SUMMARY:Members - Mid Summer ABCD Scramble
DESCRIPTION:Mid Summer ABCD Scramble \nSunday August 3\, 2025  \nThe Mid – Summer ABCD Scramble is open to all Poland Spring Members with active GHIN handicap. \nThe Mid – Summer ABCD will consist of an 18 hole four player scramble. \nFORMAT:  Each team member hits a tee shot on each hole. The team then collectively decides which of the four balls is in the best position to play next. After the team decides which ball is best\, mark the position with a tee\, each player retrieves their ball\, and plays a shot from the new designated position. This procedure is repeated for each shot until a ball is holed. A player’s lie may be improved by one club length (no closer to the hole) through the green with the exception of hazards. For example\, if you elect to play a ball from a sand trap\, the player whose ball you have chosen to play must play the ball as it lies and then the other team members will be allowed to place the ball (no closer to the hole). Once players have reached the green\, the ball may not be placed to improve a player’s lie (must be placed at spot where it lies).   All putts must be holed out. No gimmies.  Each member of the team must use his/her tee shot once. \nTEAMS – Teams will be determined after the close of registration on Friday August 1st.  Teams will be made by placing A’s from low to high\, B’s from high to low\, C’s from low to high and D’s from high to low. See chart below for more information. \nTEE TIME – Assigned Tee Times starting at 7:00 am \nPURSE – Top Gross team finishers will be awarded prize money\, determined by finishing position\, in the form of Pro Shop Credit.  All Pro Shop Credit should be used by October 15th.  . \nPoland Spring reserves the right to extend the deadline if the field is not full at the scheduled close time. Eligible Members can register by contacting the Pro Shop at (207)998-6002 or by clicking the link below and registering online through the Poland Spring Golf Genius portal. \nREGISTRATION LINK – https://www.golfgenius.com/websites/10798856066058696880?preview=false \nENTRY FEE – $25.00 per player\, payable in the Pro Shop only. \nMULLIGANS – $5.00 per player Available in Pro Shop\, (1 Mulligan per player) \nRULES OF GOLF – All play will be governed by The Rules of Golf as approved by the USGA\, except as modified by Local Rules. The Rules Committee will have the final authority on all rulings. The competition is deemed to be closed when the trophy is awarded to the champion. \nThe Tournament Committee/Rules Committee reserves the right to alter any of the conditions\, provisions\, and/or schedules herein. The decision of the Tournament Committee/Rules Committee in any matter is final. \n 
URL:https://polandspringresort.com/event/members-mid-summer-abcd-scramble/
LOCATION:Golf Course\, 37 Robbins Way\, Poland\, ME\, 04274\, United States
CATEGORIES:Golf
END:VEVENT
BEGIN:VEVENT
DTSTART;TZID=America/Toronto:20250804T090000
DTEND;TZID=America/Toronto:20250804T140000
DTSTAMP:20260421T161753
CREATED:20241206T140853Z
LAST-MODIFIED:20241206T141142Z
UID:11569-1754298000-1754316000@polandspringresort.com
SUMMARY:Charity - Husky Tournament
DESCRIPTION:GORHAM\, Maine – The University of Southern Maine Athletics Department is excited to host its 36th annual Husky Golf Classic\, on August 4 at Poland Spring Golf Course and Resort. One of Maine’s most historic golf courses\, Poland Spring is an 18-hole\, par 71\, championship layout with a slope of 125\, measuring 6\,178 yards. \nThis year’s classic will be played as a four-player scramble\, beginning at 9am\, with prizes for 1st-3rd gross and net scores. Additional prizes will be awarded for the longest drive (men and women) and closest to the pin (men and women). The event will also feature a 50/50 Raffle\, auction and door prizes\, a putting contest\, raffle prizes\, and a new car for a hole-in-one shot. \nA barbeque lunch will be served at two locations on the course from 11am-1pm\, and a full dinner will be served at the conclusion of the event along with the awarding of prizes. \n 
URL:https://polandspringresort.com/event/charity-husky-tournament-2/
LOCATION:Golf Course\, 37 Robbins Way\, Poland\, ME\, 04274\, United States
CATEGORIES:Golf
ATTACH;FMTTYPE=image/jpeg:https://polandspringresort.com/wp-content/uploads/2024/02/huskey.jpg
END:VEVENT
BEGIN:VEVENT
DTSTART;TZID=America/Toronto:20250811T090000
DTEND;TZID=America/Toronto:20250811T140000
DTSTAMP:20260421T161753
CREATED:20241206T141310Z
LAST-MODIFIED:20241206T141310Z
UID:11573-1754902800-1754920800@polandspringresort.com
SUMMARY:Charity - Husky Tournament ( Rain Date)
DESCRIPTION:GORHAM\, Maine – The University of Southern Maine Athletics Department is excited to host its 36th annual Husky Golf Classic\, on August 4 at Poland Spring Golf Course and Resort. One of Maine’s most historic golf courses\, Poland Spring is an 18-hole\, par 71\, championship layout with a slope of 125\, measuring 6\,178 yards. \nThis year’s classic will be played as a four-player scramble\, beginning at 9am\, with prizes for 1st-3rd gross and net scores. Additional prizes will be awarded for the longest drive (men and women) and closest to the pin (men and women). The event will also feature a 50/50 Raffle\, auction and door prizes\, a putting contest\, raffle prizes\, and a new car for a hole-in-one shot. \nA barbeque lunch will be served at two locations on the course from 11am-1pm\, and a full dinner will be served at the conclusion of the event along with the awarding of prizes. \n 
URL:https://polandspringresort.com/event/charity-husky-tournament-rain-date/
LOCATION:Golf Course\, 37 Robbins Way\, Poland\, ME\, 04274\, United States
CATEGORIES:Golf
ATTACH;FMTTYPE=image/jpeg:https://polandspringresort.com/wp-content/uploads/2024/02/huskey.jpg
END:VEVENT
BEGIN:VEVENT
DTSTART;TZID=America/New_York:20250812T070000
DTEND;TZID=America/New_York:20250812T130000
DTSTAMP:20260421T161753
CREATED:20241206T135934Z
LAST-MODIFIED:20250318T163948Z
UID:11561-1754982000-1755003600@polandspringresort.com
SUMMARY:Maine Golf B & C Championship
DESCRIPTION:
URL:https://polandspringresort.com/event/maine-golf-b-c-championship/
CATEGORIES:Golf
END:VEVENT
BEGIN:VEVENT
DTSTART;TZID=America/New_York:20250813T070000
DTEND;TZID=America/New_York:20250813T130000
DTSTAMP:20260421T161753
CREATED:20241206T140129Z
LAST-MODIFIED:20250318T164708Z
UID:11566-1755068400-1755090000@polandspringresort.com
SUMMARY:Maine Golf B & C Championship ( Round 2)
DESCRIPTION:https://www.mainegolf.org/
URL:https://polandspringresort.com/event/maine-golf-b-c-championship-round-2/
CATEGORIES:Golf
END:VEVENT
BEGIN:VEVENT
DTSTART;TZID=America/New_York:20250818T080000
DTEND;TZID=America/New_York:20250818T133000
DTSTAMP:20260421T161753
CREATED:20250618T181428Z
LAST-MODIFIED:20250618T181428Z
UID:12440-1755504000-1755523800@polandspringresort.com
SUMMARY:Oxford Chamber Golf Event
DESCRIPTION:8:00 Shotgun Start
URL:https://polandspringresort.com/event/oxford-chamber-golf-event/
LOCATION:Golf Course\, 37 Robbins Way\, Poland\, ME\, 04274\, United States
CATEGORIES:Golf
END:VEVENT
BEGIN:VEVENT
DTSTART;TZID=America/Toronto:20250821T090000
DTEND;TZID=America/Toronto:20250821T143000
DTSTAMP:20260421T161753
CREATED:20241206T161152Z
LAST-MODIFIED:20241206T161343Z
UID:11587-1755766800-1755786600@polandspringresort.com
SUMMARY:Norm Nolette Tournament Benefiting Ending Hunger
DESCRIPTION:Norm Nolette Chapter Raises Nearly $1 Million Since Golf Tournament’s Inception\n\n\n\n September 27\, 2023 | CU Collaboration and Chapter Activity\, Ending Hunger. Since 1995\, the Norm Nolette Chapter of Credit Unions has hosted an annual golf tournament to benefit the Campaign for Ending Hunger. This year’s event was held on August 24 at the Poland Spring Golf Course and raised an outstanding $60\,200\, exceeding their previous highest fundraising total by $3\,200!\nThe culmination of the Norm Nolette Chapter’s twenty-eighth tournament also signifies another significant milestone: this event has raised $964\,171.58 since its start—nearly $1 million! All proceeds throughout the years have been directed to the Campaign.“When the chapter began hosting this tournament back in 1995\, I don’t think any of us could have imagined how much it would grow and raise in support of the Campaign for Ending Hunger\,” said Denise Nowinski\, Director of Education and Member Relations at Tricorp FCU. “This truly is an event that the credit unions in three states look forward to each year. It is a great way to connect\, have fun\, and raise money to help combat hunger in Maine.”The credit unions in the chapter lent a helping hand\, from securing sponsorships to working it day-of. Their collaborative efforts made the event a huge success. Tricorp FCU specifically feels a special tie to carrying this tournament out each year\, as Norm Nolette was the very first CEO at Tricorp.For the past 24 years\, the Tricorp FCU has led the chapter in organizing and coordinating the event\, along with a committee of chapter credit union employees. The tournament location holds significance\, as well\, as it was Norm Nolette’s favorite course to play. The planning committee feels it is the perfect place to hold their event in honor of him. \nTo view photos of the day\, please visit Flickr. You also can mark your calendars for next year’s tournament: Thursday\, August 22 at the Poland Spring Golf Course.
URL:https://polandspringresort.com/event/charity-norm-nolette-tournament/
LOCATION:Golf Course\, 37 Robbins Way\, Poland\, ME\, 04274\, United States
CATEGORIES:Golf
ATTACH;FMTTYPE=image/jpeg:https://polandspringresort.com/wp-content/uploads/2024/02/Hole-4.jpg
END:VEVENT
BEGIN:VEVENT
DTSTART;TZID=America/Toronto:20250824T070000
DTEND;TZID=America/Toronto:20250824T090000
DTSTAMP:20260421T161753
CREATED:20241206T162139Z
LAST-MODIFIED:20241206T162712Z
UID:11591-1756018800-1756026000@polandspringresort.com
SUMMARY:Member - Ryder Cup
DESCRIPTION:– Ryder Cup – \nSunday August 24\, 2025 \nTwo Person Team – Pick your own partner. \nTEE TIMES – Pro Shop will assign tee times. \nMembers can register by contacting the Pro Shop at (207)998-6002 or by clicking the link below and registering online through the Poland Spring Golf Genius portal. Members registering individually online must notify the Pro Shop of the other team member. \nREGISTRATION LINK – https://www.golfgenius.com/websites/10798856066058696880?preview=false \nENTRY FEE – $25.00 per player \nTEES – Assigned Tee Times / Players will play from their default tee. \nFORMAT & HANDICAP  \nTwo Player Team  \nHoles 1 – 6  – BEST BALL /  90% Handicap Allowance \nHoles 7 – 12 – ALTERNATE SHOT / 40% of sum – selected drives \nHoles 13 – 18 SCRAMBLE / 35% + 15% \nELIGIBILTY – Open to all Poland Spring Members with active GHIN handicap. \nPURSE – Winners will be awarded prize money\, determined by finishing position\, in the form of Pro Shop Credit.  All Pro Shop Credit must be used by October 15th. \nSCORE POSTING – No score posting – Team event \nRULES OF GOLF – All play will be governed by The Rules of Golf as approved by the USGA\, except as modified by Local Rules. The Rules Committee will have the final authority on all rulings. The competition is deemed to be closed when the trophy is awarded to the champion. \nThe Tournament Committee/Rules Committee reserves the right to alter any of the conditions\, provisions\, and/or schedules herein. The decision of the Tournament Committee/Rules Committee in any matter is final. \n 
URL:https://polandspringresort.com/event/member-ryder-cup/
LOCATION:Golf Course\, 37 Robbins Way\, Poland\, ME\, 04274\, United States
CATEGORIES:Golf
ATTACH;FMTTYPE=image/jpeg:https://polandspringresort.com/wp-content/uploads/2024/02/ryder.jpg
END:VEVENT
BEGIN:VEVENT
DTSTART;TZID=America/Toronto:20250828T080000
DTEND;TZID=America/Toronto:20250828T140000
DTSTAMP:20260421T161753
CREATED:20241206T162942Z
LAST-MODIFIED:20241206T162942Z
UID:11593-1756368000-1756389600@polandspringresort.com
SUMMARY:Fire & Slice Tournament
DESCRIPTION:Supporting Poland Fire & Rescue Benevolent Association. \n8:00 Shotgun Start
URL:https://polandspringresort.com/event/fire-slice-tournament/
LOCATION:Golf Course\, 37 Robbins Way\, Poland\, ME\, 04274\, United States
CATEGORIES:Golf
END:VEVENT
END:VCALENDAR